BEGIN:VCALENDAR
VERSION:2.0
PRODID:-//Nemor - ECPv6.2.9//NONSGML v1.0//EN
CALSCALE:GREGORIAN
METHOD:PUBLISH
X-ORIGINAL-URL:https://nemor.creaf.cat
X-WR-CALDESC:Events for Nemor
REFRESH-INTERVAL;VALUE=DURATION:PT1H
X-Robots-Tag:noindex
X-PUBLISHED-TTL:PT1H
BEGIN:VTIMEZONE
TZID:Europe/Madrid
BEGIN:DAYLIGHT
TZOFFSETFROM:+0100
TZOFFSETTO:+0200
TZNAME:CEST
DTSTART:20260329T010000
END:DAYLIGHT
BEGIN:STANDARD
TZOFFSETFROM:+0200
TZOFFSETTO:+0100
TZNAME:CET
DTSTART:20261025T010000
END:STANDARD
END:VTIMEZONE
BEGIN:VEVENT
DTSTART;VALUE=DATE:20260528
DTEND;VALUE=DATE:20260531
DTSTAMP:20260422T140403
CREATED:20260225T100007Z
LAST-MODIFIED:20260225T100106Z
UID:2274-1779926400-1780185599@nemor.creaf.cat
SUMMARY:ForumAlpinum 2026
DESCRIPTION:ForumAlpinum 2026 provides a multidisciplinary platform to address the profound environmental and socio-economic shifts caused by Alpine deglaciation. By examining the retreat of glaciers through the lenses of governance\, environmental heritage\, urban planning\, and community resilience\, the conference explores how climate change is reshaping territorial structures and traditional mountain identities
URL:https://nemor.creaf.cat/event/forumalpinum-2026/
LOCATION:Aosta\, Italy
ATTACH;FMTTYPE=image/png:https://nemor.creaf.cat/wp-content/uploads/2026/02/Logo_ForumAlpinum26-white-lowres.png
END:VEVENT
END:VCALENDAR